BEGIN:VCALENDAR
VERSION:2.0
BEGIN:VEVENT
URL:https://badlandsbar.oztix.com.au/outlet/event/0d78f1a0-824e-4396-9297-107e5a7cf122
DTSTART:20231020T120000Z
DTEND:20231020T120000Z
SUMMARY:Pearl Jam “VS” 30th Anniversary Show - performed by Even Flow
DESCRIPTION:Event details: https://badlandsbar.oztix.com.au/outlet/event/0d78f1a0-824e-4396-9297-107e5a7cf122
LOCATION:Badlands Bar (PERTH, WA)
END:VEVENT
END:VCALENDAR