BEGIN:VCALENDAR
VERSION:2.0
BEGIN:VEVENT
URL:https://badlandsbar.oztix.com.au/outlet/event/301e6d21-0190-4077-9390-9dcbb5c30aba
DTSTART:20231022T110000Z
DTEND:20231022T110000Z
SUMMARY:30 Years of Strung Out
DESCRIPTION:Event details: https://badlandsbar.oztix.com.au/outlet/event/301e6d21-0190-4077-9390-9dcbb5c30aba
LOCATION:Badlands Bar (PERTH, WA)
END:VEVENT
END:VCALENDAR