BEGIN:VCALENDAR
VERSION:2.0
BEGIN:VEVENT
URL:https://badlandsbar.oztix.com.au/outlet/event/493a7547-1932-499c-87d5-dd40b4995787
DTSTART:20230915T120000Z
DTEND:20230915T120000Z
SUMMARY:Mampi Swift (UK)
DESCRIPTION:Event details: https://badlandsbar.oztix.com.au/outlet/event/493a7547-1932-499c-87d5-dd40b4995787
LOCATION:Badlands Bar (PERTH, WA)
END:VEVENT
END:VCALENDAR