BEGIN:VCALENDAR
VERSION:2.0
BEGIN:VEVENT
URL:https://badlandsbar.oztix.com.au/outlet/event/4aa8b6cb-87d1-40ec-b2cd-39332be7fbf3
DTSTART:20230805T120000Z
DTEND:20230805T120000Z
SUMMARY:Hoshi Pixelate 2.0
DESCRIPTION:Event details: https://badlandsbar.oztix.com.au/outlet/event/4aa8b6cb-87d1-40ec-b2cd-39332be7fbf3
LOCATION:Badlands Bar (PERTH, WA)
END:VEVENT
END:VCALENDAR