BEGIN:VCALENDAR
VERSION:2.0
BEGIN:VEVENT
URL:https://badlandsbar.oztix.com.au/outlet/event/5f93101e-e5d7-4b74-84d2-446a86d7eb48
DTSTART:20230923T080000Z
DTEND:20230923T080000Z
SUMMARY:Electric Eye Heavy Fest
DESCRIPTION:Event details: https://badlandsbar.oztix.com.au/outlet/event/5f93101e-e5d7-4b74-84d2-446a86d7eb48
LOCATION:Badlands Bar (PERTH, WA)
END:VEVENT
END:VCALENDAR