BEGIN:VCALENDAR
VERSION:2.0
BEGIN:VEVENT
URL:https://badlandsbar.oztix.com.au/outlet/event/703b4d01-a56f-4e31-b3fb-fd33d0ee5dac
DTSTART:20230728T120000Z
DTEND:20230728T120000Z
SUMMARY:Suneater
DESCRIPTION:Event details: https://badlandsbar.oztix.com.au/outlet/event/703b4d01-a56f-4e31-b3fb-fd33d0ee5dac
LOCATION:Badlands Bar (PERTH, WA)
END:VEVENT
END:VCALENDAR