BEGIN:VCALENDAR
VERSION:2.0
BEGIN:VEVENT
URL:https://badlandsbar.oztix.com.au/outlet/event/892206c7-67ea-4a73-8520-836aa710dca8
DTSTART:20230819T120000Z
DTEND:20230819T120000Z
SUMMARY:Recombobulation 2023: Equilibrium
DESCRIPTION:Event details: https://badlandsbar.oztix.com.au/outlet/event/892206c7-67ea-4a73-8520-836aa710dca8
LOCATION:Badlands Bar (PERTH, WA)
END:VEVENT
END:VCALENDAR