BEGIN:VCALENDAR
VERSION:2.0
BEGIN:VEVENT
URL:https://badlandsbar.oztix.com.au/outlet/event/acdd399b-8390-496d-a50a-a24a7310df60
DTSTART:20230916T120000Z
DTEND:20230916T120000Z
SUMMARY:Nirvana "In Utero" 30th Anniversary show - performed by Frances Farmer's Revenge
DESCRIPTION:Event details: https://badlandsbar.oztix.com.au/outlet/event/acdd399b-8390-496d-a50a-a24a7310df60
LOCATION:Badlands Bar (PERTH, WA)
END:VEVENT
END:VCALENDAR