BEGIN:VCALENDAR
VERSION:2.0
BEGIN:VEVENT
URL:https://badlandsbar.oztix.com.au/outlet/event/c05ce029-b847-4aaa-9f89-6d5e4042ba1b
DTSTART:20231104T113000Z
DTEND:20231104T113000Z
SUMMARY:Magic Dirt
DESCRIPTION:Event details: https://badlandsbar.oztix.com.au/outlet/event/c05ce029-b847-4aaa-9f89-6d5e4042ba1b
LOCATION:Badlands Bar (PERTH, WA)
END:VEVENT
END:VCALENDAR