BEGIN:VCALENDAR
VERSION:2.0
BEGIN:VEVENT
URL:https://badlandsbar.oztix.com.au/outlet/event/e6846a4c-c44b-4d32-8ee0-fd8a5380529e
DTSTART:20230902T120000Z
DTEND:20230902T120000Z
SUMMARY:"CHAOS A.D." 30th Anniversary Tribute | performed by ALTERED STATE
DESCRIPTION:Event details: https://badlandsbar.oztix.com.au/outlet/event/e6846a4c-c44b-4d32-8ee0-fd8a5380529e
LOCATION:Badlands Bar (PERTH, WA)
END:VEVENT
END:VCALENDAR