BEGIN:VCALENDAR
VERSION:2.0
BEGIN:VEVENT
URL:https://badlandsbar.oztix.com.au/outlet/event/eddc7c89-842e-45fb-96c8-a3ee6149820b
DTSTART:20231117T110000Z
DTEND:20231117T110000Z
SUMMARY:The Coronas
DESCRIPTION:Event details: https://badlandsbar.oztix.com.au/outlet/event/eddc7c89-842e-45fb-96c8-a3ee6149820b
LOCATION:Badlands Bar (PERTH, WA)
END:VEVENT
END:VCALENDAR