BEGIN:VCALENDAR
VERSION:2.0
BEGIN:VEVENT
URL:https://badlandsbar.oztix.com.au/outlet/event/f1a43e02-3bee-43e7-b132-6a1b1d92f3f5
DTSTART:20230729T113000Z
DTEND:20230729T113000Z
SUMMARY:Smashing Pumpkins "Siamese Dream" 30th Anniversary Tribute
DESCRIPTION:Event details: https://badlandsbar.oztix.com.au/outlet/event/f1a43e02-3bee-43e7-b132-6a1b1d92f3f5
LOCATION:Badlands Bar (PERTH, WA)
END:VEVENT
END:VCALENDAR