BEGIN:VCALENDAR
VERSION:2.0
BEGIN:VEVENT
URL:https://badlandsbar.oztix.com.au/outlet/event/f5ee760f-6f82-4798-b7ca-78a7f9727f2b
DTSTART:20230811T120000Z
DTEND:20230811T120000Z
SUMMARY:Ra Ra Viper at Badlands Bar
DESCRIPTION:Event details: https://badlandsbar.oztix.com.au/outlet/event/f5ee760f-6f82-4798-b7ca-78a7f9727f2b
LOCATION:Badlands Bar (PERTH, WA)
END:VEVENT
END:VCALENDAR