BEGIN:VCALENDAR
VERSION:2.0
BEGIN:VEVENT
URL:https://badlandsbar.oztix.com.au/outlet/event/fb4d2bd4-b1d8-4f64-99cc-e0c22169b214
DTSTART:20230804T113000Z
DTEND:20230804T113000Z
SUMMARY:CANCELLED - High & Heavy feat. Datura4 & More
DESCRIPTION:Event details: https://badlandsbar.oztix.com.au/outlet/event/fb4d2bd4-b1d8-4f64-99cc-e0c22169b214
LOCATION:Badlands Bar (PERTH, WA)
END:VEVENT
END:VCALENDAR